BEGIN:VCALENDAR
VERSION:2.0
PRODID:-//Trollheim Lodge 6-110 - ECPv6.15.20//NONSGML v1.0//EN
CALSCALE:GREGORIAN
METHOD:PUBLISH
X-ORIGINAL-URL:https://trollheimlodge.com
X-WR-CALDESC:Events for Trollheim Lodge 6-110
REFRESH-INTERVAL;VALUE=DURATION:PT1H
X-Robots-Tag:noindex
X-PUBLISHED-TTL:PT1H
BEGIN:VTIMEZONE
TZID:America/Denver
BEGIN:DAYLIGHT
TZOFFSETFROM:-0700
TZOFFSETTO:-0600
TZNAME:MDT
DTSTART:20240310T090000
END:DAYLIGHT
BEGIN:STANDARD
TZOFFSETFROM:-0600
TZOFFSETTO:-0700
TZNAME:MST
DTSTART:20241103T080000
END:STANDARD
BEGIN:DAYLIGHT
TZOFFSETFROM:-0700
TZOFFSETTO:-0600
TZNAME:MDT
DTSTART:20250309T090000
END:DAYLIGHT
BEGIN:STANDARD
TZOFFSETFROM:-0600
TZOFFSETTO:-0700
TZNAME:MST
DTSTART:20251102T080000
END:STANDARD
BEGIN:DAYLIGHT
TZOFFSETFROM:-0700
TZOFFSETTO:-0600
TZNAME:MDT
DTSTART:20260308T090000
END:DAYLIGHT
BEGIN:STANDARD
TZOFFSETFROM:-0600
TZOFFSETTO:-0700
TZNAME:MST
DTSTART:20261101T080000
END:STANDARD
END:VTIMEZONE
BEGIN:VEVENT
DTSTART;TZID=America/Denver:20250201T140000
DTEND;TZID=America/Denver:20250201T170000
DTSTAMP:20260423T112535
CREATED:20250113T023049Z
LAST-MODIFIED:20250113T023049Z
UID:234-1738418400-1738429200@trollheimlodge.com
SUMMARY:Lutefisk and Meatball Dinner
DESCRIPTION:
URL:https://trollheimlodge.com/event/lutefisk-and-meatball-dinner/
LOCATION:Trollheim Lodge\, 6610 W 14th Ave\, Lakewood\, CO\, 80214\, United States
END:VEVENT
BEGIN:VEVENT
DTSTART;TZID=America/Denver:20250125T090000
DTEND;TZID=America/Denver:20250125T133000
DTSTAMP:20260423T112535
CREATED:20250113T022902Z
LAST-MODIFIED:20250113T022902Z
UID:232-1737795600-1737811800@trollheimlodge.com
SUMMARY:District 6 Zone 8 Officer Training
DESCRIPTION:
URL:https://trollheimlodge.com/event/district-6-zone-8-officer-training/
LOCATION:Trollheim Lodge\, 6610 W 14th Ave\, Lakewood\, CO\, 80214\, United States
END:VEVENT
BEGIN:VEVENT
DTSTART;TZID=America/Denver:20250118T140000
DTEND;TZID=America/Denver:20250118T160000
DTSTAMP:20260423T112535
CREATED:20250113T021451Z
LAST-MODIFIED:20250113T024325Z
UID:218-1737208800-1737216000@trollheimlodge.com
SUMMARY:General Meeting - Trollheim Lodge
DESCRIPTION:General Meeting – All Members and Guests \nInstallation of Lodge Officers and TBC board members \nDessert/Snack potluck
URL:https://trollheimlodge.com/event/general-meeting-trollheim-lodge/
LOCATION:Trollheim Lodge\, 6610 W 14th Ave\, Lakewood\, CO\, 80214\, United States
END:VEVENT
BEGIN:VEVENT
DTSTART;TZID=America/Denver:20250111T100000
DTEND;TZID=America/Denver:20250111T140000
DTSTAMP:20260423T112535
CREATED:20250113T022715Z
LAST-MODIFIED:20250113T022715Z
UID:230-1736589600-1736604000@trollheimlodge.com
SUMMARY:Genealogy Group
DESCRIPTION:In the library
URL:https://trollheimlodge.com/event/genealogy-group/
LOCATION:Trollheim Lodge\, 6610 W 14th Ave\, Lakewood\, CO\, 80214\, United States
END:VEVENT
END:VCALENDAR